BEGIN:VCALENDAR
VERSION:2.0
PRODID:-//Chatham Vineyards - ECPv6.15.20//NONSGML v1.0//EN
CALSCALE:GREGORIAN
METHOD:PUBLISH
X-ORIGINAL-URL:https://chathamvineyards.com
X-WR-CALDESC:Events for Chatham Vineyards
REFRESH-INTERVAL;VALUE=DURATION:PT1H
X-Robots-Tag:noindex
X-PUBLISHED-TTL:PT1H
BEGIN:VTIMEZONE
TZID:America/New_York
BEGIN:DAYLIGHT
TZOFFSETFROM:-0500
TZOFFSETTO:-0400
TZNAME:EDT
DTSTART:20240310T070000
END:DAYLIGHT
BEGIN:STANDARD
TZOFFSETFROM:-0400
TZOFFSETTO:-0500
TZNAME:EST
DTSTART:20241103T060000
END:STANDARD
BEGIN:DAYLIGHT
TZOFFSETFROM:-0500
TZOFFSETTO:-0400
TZNAME:EDT
DTSTART:20250309T070000
END:DAYLIGHT
BEGIN:STANDARD
TZOFFSETFROM:-0400
TZOFFSETTO:-0500
TZNAME:EST
DTSTART:20251102T060000
END:STANDARD
BEGIN:DAYLIGHT
TZOFFSETFROM:-0500
TZOFFSETTO:-0400
TZNAME:EDT
DTSTART:20260308T070000
END:DAYLIGHT
BEGIN:STANDARD
TZOFFSETFROM:-0400
TZOFFSETTO:-0500
TZNAME:EST
DTSTART:20261101T060000
END:STANDARD
END:VTIMEZONE
BEGIN:VEVENT
DTSTART;TZID=America/New_York:20250413T140000
DTEND;TZID=America/New_York:20250413T160000
DTSTAMP:20260421T090735
CREATED:20250408T102651Z
LAST-MODIFIED:20250408T102651Z
UID:1393-1744552800-1744560000@chathamvineyards.com
SUMMARY:Crush Pad Music Series
DESCRIPTION:The Crush Pad Music Series returns this Sunday\, April 13! Join us for an afternoon of live music featuring by Grateful Dead cover band virtuosos Patrick Higgins and Kyle Folsom of Last Fair Deal for an acoustic performance from 2 to 4pm. \nSettle in with a picnic\, chairs\, and blankets\, and enjoy the music from the lush green space around the crush pad. Bread and cheese will be available for purchase to pair with a glass or bottle of your favorite Chatham wine. You’re welcome to bring your own picnic\, but please\, no outside alcohol. \nNo reservations or fees – just great music\, good company\, and a perfect day spent with family and friends here on Virginia’s Eastern Shore. See you there!
URL:https://chathamvineyards.com/event/crush-pad-music-series-3/
CATEGORIES:Crush Pad Music Series
ATTACH;FMTTYPE=image/jpeg:https://chathamvineyards.com/wp-content/uploads/2025/04/Crush-Pad-Music-Series-Event-Cover.jpg
END:VEVENT
END:VCALENDAR