BEGIN:VCALENDAR
VERSION:2.0
PRODID:-//Chatham Vineyards - ECPv6.15.20//NONSGML v1.0//EN
CALSCALE:GREGORIAN
METHOD:PUBLISH
X-ORIGINAL-URL:https://chathamvineyards.com
X-WR-CALDESC:Events for Chatham Vineyards
REFRESH-INTERVAL;VALUE=DURATION:PT1H
X-Robots-Tag:noindex
X-PUBLISHED-TTL:PT1H
BEGIN:VTIMEZONE
TZID:America/New_York
BEGIN:DAYLIGHT
TZOFFSETFROM:-0500
TZOFFSETTO:-0400
TZNAME:EDT
DTSTART:20250309T070000
END:DAYLIGHT
BEGIN:STANDARD
TZOFFSETFROM:-0400
TZOFFSETTO:-0500
TZNAME:EST
DTSTART:20251102T060000
END:STANDARD
BEGIN:DAYLIGHT
TZOFFSETFROM:-0500
TZOFFSETTO:-0400
TZNAME:EDT
DTSTART:20260308T070000
END:DAYLIGHT
BEGIN:STANDARD
TZOFFSETFROM:-0400
TZOFFSETTO:-0500
TZNAME:EST
DTSTART:20261101T060000
END:STANDARD
BEGIN:DAYLIGHT
TZOFFSETFROM:-0500
TZOFFSETTO:-0400
TZNAME:EDT
DTSTART:20270314T070000
END:DAYLIGHT
BEGIN:STANDARD
TZOFFSETFROM:-0400
TZOFFSETTO:-0500
TZNAME:EST
DTSTART:20271107T060000
END:STANDARD
END:VTIMEZONE
BEGIN:VEVENT
DTSTART;TZID=America/New_York:20260314T100000
DTEND;TZID=America/New_York:20260315T170000
DTSTAMP:20260421T181340
CREATED:20260112T180015Z
LAST-MODIFIED:20260316T161445Z
UID:1534-1773482400-1773594000@chathamvineyards.com
SUMMARY:Winter Wine and Oyster Weekend - March 14-15
DESCRIPTION:Winter Wine & Oyster Weekend\, March 14 – 15\, 2026 \nEnjoy a half dozen Shooting Point Oyster Company oysters and a glass of Chatham wine for just $20. No reservations\, just come on over! \nNo reservations or tickets required. Limited seating is available indoors\, but our fire pits will keep you cozy outdoors\, though please dress for the weather! Kids\, chairs and blankets all welcome as well as your pup if you don’t mind sitting outside. \nWinter Wine & Oyster Weekends:\nJanuary 17-19\nFebruary 14-16\nMarch 14-15 \nHours: 10am to 5pm
URL:https://chathamvineyards.com/event/winter-wine-and-oyster-weekend-march-14-15/
CATEGORIES:Winter Wine and Oyster Weekends
ATTACH;FMTTYPE=image/jpeg:https://chathamvineyards.com/wp-content/uploads/2026/01/chatham-fall-11-5-2024-06.jpg
END:VEVENT
BEGIN:VEVENT
DTSTART;TZID=America/New_York:20260404T100000
DTEND;TZID=America/New_York:20260404T170000
DTSTAMP:20260421T181340
CREATED:20260316T160839Z
LAST-MODIFIED:20260327T101610Z
UID:1566-1775296800-1775322000@chathamvineyards.com
SUMMARY:Wine and Oyster Weekend - April 4
DESCRIPTION:Winter Wine & Oyster Weekend\, April 4\, 2026 \nEnjoy a half dozen Shooting Point Oyster Company oysters and a glass of Chatham wine for just $20. No reservations\, just come on over! \nNo reservations or tickets required. Limited seating is available indoors\, but our fire pits will keep you cozy outdoors\, though please dress for the weather! Kids\, chairs and blankets all welcome as well as your pup if you don’t mind sitting outside. \nHours: 10am to 5pm
URL:https://chathamvineyards.com/event/wine-and-oyster-weekend-april-4-6/
CATEGORIES:Winter Wine and Oyster Weekends
ATTACH;FMTTYPE=image/jpeg:https://chathamvineyards.com/wp-content/uploads/2026/01/chatham-fall-11-5-2024-06.jpg
END:VEVENT
BEGIN:VEVENT
DTSTART;TZID=America/New_York:20260412T140000
DTEND;TZID=America/New_York:20260412T160000
DTSTAMP:20260421T181340
CREATED:20260406T144522Z
LAST-MODIFIED:20260406T144522Z
UID:1575-1776002400-1776009600@chathamvineyards.com
SUMMARY:Crush Pad Music Series: Melinda and the Speakeasies
DESCRIPTION:Join us for our Crush Pad Music Series from 2 to 4 PM here at Chatham Vineyards on Virginia’s Eastern Shore. Settle in with a glass of wine\, soak up the vineyard views\, and enjoy live music from a rotating lineup of talented performers. \nNo tickets or RSVP required—just bring a picnic\, find your spot\, and unwind with great music in a relaxed\, open-air setting. Please note: outside alcohol is not permitted.
URL:https://chathamvineyards.com/event/crush-pad-music-series-melinda-and-the-speakeasies-2/
CATEGORIES:Crush Pad Music Series
ATTACH;FMTTYPE=image/jpeg:https://chathamvineyards.com/wp-content/uploads/2025/06/Crush-Pad-Music-Series-June25-web-scaled.jpeg
END:VEVENT
BEGIN:VEVENT
DTSTART;TZID=America/New_York:20260426T140000
DTEND;TZID=America/New_York:20260426T160000
DTSTAMP:20260421T181340
CREATED:20260406T144655Z
LAST-MODIFIED:20260406T144655Z
UID:1577-1777212000-1777219200@chathamvineyards.com
SUMMARY:Crush Pad Music Series: Steel Pennies
DESCRIPTION:Join us for our Crush Pad Music Series from 2 to 4 PM here at Chatham Vineyards on Virginia’s Eastern Shore. Settle in with a glass of wine\, soak up the vineyard views\, and enjoy live music from a rotating lineup of talented performers. \nNo tickets or RSVP required—just bring a picnic\, find your spot\, and unwind with great music in a relaxed\, open-air setting. Please note: outside alcohol is not permitted.
URL:https://chathamvineyards.com/event/crush-pad-music-series-steel-pennies-2/
CATEGORIES:Crush Pad Music Series
ATTACH;FMTTYPE=image/jpeg:https://chathamvineyards.com/wp-content/uploads/2025/06/Crush-Pad-Music-Series-June25-web-scaled.jpeg
END:VEVENT
BEGIN:VEVENT
DTSTART;TZID=America/New_York:20260510T140000
DTEND;TZID=America/New_York:20260510T160000
DTSTAMP:20260421T181340
CREATED:20260421T144201Z
LAST-MODIFIED:20260421T144201Z
UID:1592-1778421600-1778428800@chathamvineyards.com
SUMMARY:Crush Pad Music Series: Boy Wells and the Originals
DESCRIPTION:Join us for our Crush Pad Music Series from 2 to 4 PM here at Chatham Vineyards on Virginia’s Eastern Shore. Settle in with a glass of wine\, soak up the vineyard views\, and enjoy live music from a rotating lineup of talented performers. \nNo tickets or RSVP required—just bring a picnic\, find your spot\, and unwind with great music in a relaxed\, open-air setting. Please note: outside alcohol is not permitted.
URL:https://chathamvineyards.com/event/crush-pad-music-series-boy-wells-and-the-originals/
CATEGORIES:Crush Pad Music Series
ATTACH;FMTTYPE=image/jpeg:https://chathamvineyards.com/wp-content/uploads/2025/06/Crush-Pad-Music-Series-June25-web-scaled.jpeg
END:VEVENT
BEGIN:VEVENT
DTSTART;TZID=America/New_York:20260517T140000
DTEND;TZID=America/New_York:20260517T160000
DTSTAMP:20260421T181340
CREATED:20260406T144833Z
LAST-MODIFIED:20260406T144833Z
UID:1579-1779026400-1779033600@chathamvineyards.com
SUMMARY:Crush Pad Music Series: La Doo Vay
DESCRIPTION:Join us for our Crush Pad Music Series from 2 to 4 PM here at Chatham Vineyards on Virginia’s Eastern Shore. Settle in with a glass of wine\, soak up the vineyard views\, and enjoy live music from a rotating lineup of talented performers. \nNo tickets or RSVP required—just bring a picnic\, find your spot\, and unwind with great music in a relaxed\, open-air setting. Please note: outside alcohol is not permitted.
URL:https://chathamvineyards.com/event/crush-pad-music-series-la-doo-vay-4/
CATEGORIES:Crush Pad Music Series
ATTACH;FMTTYPE=image/jpeg:https://chathamvineyards.com/wp-content/uploads/2025/06/Crush-Pad-Music-Series-June25-web-scaled.jpeg
END:VEVENT
BEGIN:VEVENT
DTSTART;TZID=America/New_York:20260524T140000
DTEND;TZID=America/New_York:20260524T160000
DTSTAMP:20260421T181340
CREATED:20260406T145005Z
LAST-MODIFIED:20260406T145005Z
UID:1581-1779631200-1779638400@chathamvineyards.com
SUMMARY:Crush Pad Music Series: Melinda and the Speakeasies
DESCRIPTION:Join us for our Crush Pad Music Series from 2 to 4 PM here at Chatham Vineyards on Virginia’s Eastern Shore. Settle in with a glass of wine\, soak up the vineyard views\, and enjoy live music from a rotating lineup of talented performers. \nNo tickets or RSVP required—just bring a picnic\, find your spot\, and unwind with great music in a relaxed\, open-air setting. Please note: outside alcohol is not permitted.
URL:https://chathamvineyards.com/event/crush-pad-music-series-melinda-and-the-speakeasies-3/
CATEGORIES:Crush Pad Music Series
ATTACH;FMTTYPE=image/jpeg:https://chathamvineyards.com/wp-content/uploads/2025/06/Crush-Pad-Music-Series-June25-web-scaled.jpeg
END:VEVENT
BEGIN:VEVENT
DTSTART;TZID=America/New_York:20260531T140000
DTEND;TZID=America/New_York:20260531T160000
DTSTAMP:20260421T181340
CREATED:20260421T144456Z
LAST-MODIFIED:20260421T145132Z
UID:1594-1780236000-1780243200@chathamvineyards.com
SUMMARY:Crush Pad Music Series: Willie C and the Gang
DESCRIPTION:Join us for our Crush Pad Music Series from 2 to 4 PM here at Chatham Vineyards on Virginia’s Eastern Shore. Settle in with a glass of wine\, soak up the vineyard views\, and enjoy live music from a rotating lineup of talented performers. \nNo tickets or RSVP required—just bring a picnic\, find your spot\, and unwind with great music in a relaxed\, open-air setting. Please note: outside alcohol is not permitted.
URL:https://chathamvineyards.com/event/willie-c-and-the-gang-2/
CATEGORIES:Crush Pad Music Series
ATTACH;FMTTYPE=image/jpeg:https://chathamvineyards.com/wp-content/uploads/2025/06/Crush-Pad-Music-Series-June25-web-scaled.jpeg
END:VEVENT
BEGIN:VEVENT
DTSTART;TZID=America/New_York:20260607T140000
DTEND;TZID=America/New_York:20260607T160000
DTSTAMP:20260421T181340
CREATED:20260421T144544Z
LAST-MODIFIED:20260421T145115Z
UID:1596-1780840800-1780848000@chathamvineyards.com
SUMMARY:Crush Pad Music Series: Bayside Jazz
DESCRIPTION:Join us for our Crush Pad Music Series from 2 to 4 PM here at Chatham Vineyards on Virginia’s Eastern Shore. Settle in with a glass of wine\, soak up the vineyard views\, and enjoy live music from a rotating lineup of talented performers. \nNo tickets or RSVP required—just bring a picnic\, find your spot\, and unwind with great music in a relaxed\, open-air setting. Please note: outside alcohol is not permitted.
URL:https://chathamvineyards.com/event/bayside-jazz/
CATEGORIES:Crush Pad Music Series
ATTACH;FMTTYPE=image/jpeg:https://chathamvineyards.com/wp-content/uploads/2025/06/Crush-Pad-Music-Series-June25-web-scaled.jpeg
END:VEVENT
BEGIN:VEVENT
DTSTART;TZID=America/New_York:20260614T140000
DTEND;TZID=America/New_York:20260614T160000
DTSTAMP:20260421T181340
CREATED:20260421T144624Z
LAST-MODIFIED:20260421T145100Z
UID:1598-1781445600-1781452800@chathamvineyards.com
SUMMARY:Crush Pad Music Series: Willie C and the Gang
DESCRIPTION:Join us for our Crush Pad Music Series from 2 to 4 PM here at Chatham Vineyards on Virginia’s Eastern Shore. Settle in with a glass of wine\, soak up the vineyard views\, and enjoy live music from a rotating lineup of talented performers. \nNo tickets or RSVP required—just bring a picnic\, find your spot\, and unwind with great music in a relaxed\, open-air setting. Please note: outside alcohol is not permitted.
URL:https://chathamvineyards.com/event/willie-c-and-the-gang-3/
CATEGORIES:Crush Pad Music Series
ATTACH;FMTTYPE=image/jpeg:https://chathamvineyards.com/wp-content/uploads/2025/06/Crush-Pad-Music-Series-June25-web-scaled.jpeg
END:VEVENT
BEGIN:VEVENT
DTSTART;TZID=America/New_York:20260621T140000
DTEND;TZID=America/New_York:20260621T160000
DTSTAMP:20260421T181340
CREATED:20260406T145124Z
LAST-MODIFIED:20260406T145124Z
UID:1583-1782050400-1782057600@chathamvineyards.com
SUMMARY:Crush Pad Music Series: Steel Pennies
DESCRIPTION:Join us for our Crush Pad Music Series from 2 to 4 PM here at Chatham Vineyards on Virginia’s Eastern Shore. Settle in with a glass of wine\, soak up the vineyard views\, and enjoy live music from a rotating lineup of talented performers. \nNo tickets or RSVP required—just bring a picnic\, find your spot\, and unwind with great music in a relaxed\, open-air setting. Please note: outside alcohol is not permitted.
URL:https://chathamvineyards.com/event/crush-pad-music-series-steel-pennies-3/
CATEGORIES:Crush Pad Music Series
ATTACH;FMTTYPE=image/jpeg:https://chathamvineyards.com/wp-content/uploads/2025/06/Crush-Pad-Music-Series-June25-web-scaled.jpeg
END:VEVENT
BEGIN:VEVENT
DTSTART;TZID=America/New_York:20260628T140000
DTEND;TZID=America/New_York:20260628T160000
DTSTAMP:20260421T181340
CREATED:20260421T144739Z
LAST-MODIFIED:20260421T144739Z
UID:1600-1782655200-1782662400@chathamvineyards.com
SUMMARY:Crush Pad Music Series: Bayside Jazz
DESCRIPTION:Join us for our Crush Pad Music Series from 2 to 4 PM here at Chatham Vineyards on Virginia’s Eastern Shore. Settle in with a glass of wine\, soak up the vineyard views\, and enjoy live music from a rotating lineup of talented performers. \nNo tickets or RSVP required—just bring a picnic\, find your spot\, and unwind with great music in a relaxed\, open-air setting. Please note: outside alcohol is not permitted.
URL:https://chathamvineyards.com/event/crush-pad-music-series-bayside-jazz/
CATEGORIES:Crush Pad Music Series
ATTACH;FMTTYPE=image/jpeg:https://chathamvineyards.com/wp-content/uploads/2025/06/Crush-Pad-Music-Series-June25-web-scaled.jpeg
END:VEVENT
BEGIN:VEVENT
DTSTART;TZID=America/New_York:20260705T140000
DTEND;TZID=America/New_York:20260705T160000
DTSTAMP:20260421T181340
CREATED:20260406T145228Z
LAST-MODIFIED:20260406T145228Z
UID:1585-1783260000-1783267200@chathamvineyards.com
SUMMARY:Crush Pad Music Series: Melinda and the Speakeasies
DESCRIPTION:Join us for our Crush Pad Music Series from 2 to 4 PM here at Chatham Vineyards on Virginia’s Eastern Shore. Settle in with a glass of wine\, soak up the vineyard views\, and enjoy live music from a rotating lineup of talented performers. \nNo tickets or RSVP required—just bring a picnic\, find your spot\, and unwind with great music in a relaxed\, open-air setting. Please note: outside alcohol is not permitted.
URL:https://chathamvineyards.com/event/crush-pad-music-series-melinda-and-the-speakeasies-4/
CATEGORIES:Crush Pad Music Series
ATTACH;FMTTYPE=image/jpeg:https://chathamvineyards.com/wp-content/uploads/2025/06/Crush-Pad-Music-Series-June25-web-scaled.jpeg
END:VEVENT
BEGIN:VEVENT
DTSTART;TZID=America/New_York:20260712T140000
DTEND;TZID=America/New_York:20260712T160000
DTSTAMP:20260421T181340
CREATED:20260406T145404Z
LAST-MODIFIED:20260406T145404Z
UID:1587-1783864800-1783872000@chathamvineyards.com
SUMMARY:Crush Pad Music Series: La Doo Vay
DESCRIPTION:Join us for our Crush Pad Music Series from 2 to 4 PM here at Chatham Vineyards on Virginia’s Eastern Shore. Settle in with a glass of wine\, soak up the vineyard views\, and enjoy live music from a rotating lineup of talented performers. \nNo tickets or RSVP required—just bring a picnic\, find your spot\, and unwind with great music in a relaxed\, open-air setting. Please note: outside alcohol is not permitted.
URL:https://chathamvineyards.com/event/crush-pad-music-series-la-doo-vay-5/
CATEGORIES:Crush Pad Music Series
ATTACH;FMTTYPE=image/jpeg:https://chathamvineyards.com/wp-content/uploads/2025/06/Crush-Pad-Music-Series-June25-web-scaled.jpeg
END:VEVENT
BEGIN:VEVENT
DTSTART;TZID=America/New_York:20260719T140000
DTEND;TZID=America/New_York:20260719T160000
DTSTAMP:20260421T181340
CREATED:20260421T144831Z
LAST-MODIFIED:20260421T144831Z
UID:1602-1784469600-1784476800@chathamvineyards.com
SUMMARY:Crush Pad Music Series: Willie C and the Gang
DESCRIPTION:Join us for our Crush Pad Music Series from 2 to 4 PM here at Chatham Vineyards on Virginia’s Eastern Shore. Settle in with a glass of wine\, soak up the vineyard views\, and enjoy live music from a rotating lineup of talented performers. \nNo tickets or RSVP required—just bring a picnic\, find your spot\, and unwind with great music in a relaxed\, open-air setting. Please note: outside alcohol is not permitted.
URL:https://chathamvineyards.com/event/crush-pad-music-series-willie-c-and-the-gang-2/
CATEGORIES:Crush Pad Music Series
ATTACH;FMTTYPE=image/jpeg:https://chathamvineyards.com/wp-content/uploads/2025/06/Crush-Pad-Music-Series-June25-web-scaled.jpeg
END:VEVENT
BEGIN:VEVENT
DTSTART;TZID=America/New_York:20260726T140000
DTEND;TZID=America/New_York:20260726T160000
DTSTAMP:20260421T181340
CREATED:20260421T164317Z
LAST-MODIFIED:20260421T164339Z
UID:1613-1785074400-1785081600@chathamvineyards.com
SUMMARY:Crush Pad Music Series: Boy Wells and the Originals
DESCRIPTION:Join us for our Crush Pad Music Series from 2 to 4 PM here at Chatham Vineyards on Virginia’s Eastern Shore. Settle in with a glass of wine\, soak up the vineyard views\, and enjoy live music from a rotating lineup of talented performers. \nNo tickets or RSVP required—just bring a picnic\, find your spot\, and unwind with great music in a relaxed\, open-air setting. Please note: outside alcohol is not permitted.
URL:https://chathamvineyards.com/event/crush-pad-music-series-boy-wells-and-the-originals-2/
CATEGORIES:Crush Pad Music Series
ATTACH;FMTTYPE=image/jpeg:https://chathamvineyards.com/wp-content/uploads/2025/06/Crush-Pad-Music-Series-June25-web-scaled.jpeg
END:VEVENT
BEGIN:VEVENT
DTSTART;TZID=America/New_York:20260801T170000
DTEND;TZID=America/New_York:20260801T210000
DTSTAMP:20260421T181340
CREATED:20260126T192942Z
LAST-MODIFIED:20260126T202605Z
UID:1547-1785603600-1785618000@chathamvineyards.com
SUMMARY:Dead on the Vine
DESCRIPTION:Tickets are LIVE for DOV! \nNow in its 18th year\, Dead on the Vine has sold out in advance for the past few years—so grab your tickets early and get ready to dance under the summer stars here at Chatham\, enjoying live sets from Last Fair Deal\, Virginia’s premiere seven-piece Grateful Dead tribute band. \nFor adults 21+\, your ticket includes dinner\, a glass of wine or beer\, music\, and dancing for $75. \nFor children\, the concert with dinner and a non-alcoholic beverage is $30. \nArrival and check-in begin at 4 PM\, and the concert kicks off at 5 PM on Saturday\, August 1. \nWe will have limited seating available on a first-come\, first-served basis. Lawn furniture and/or blankets are welcome and encouraged. Please\, no outside alcohol. \nPurchase adult tickets now in our online store: \nADULT TICKETS \nPurchase kids tickets here: \nKID TICKETS
URL:https://chathamvineyards.com/event/dead-on-the-vine/
CATEGORIES:Dead on the Vine Concert
ATTACH;FMTTYPE=image/jpeg:https://chathamvineyards.com/wp-content/uploads/2026/01/dead-on-the-vine-concert.jpg
END:VEVENT
BEGIN:VEVENT
DTSTART;TZID=America/New_York:20260809T140000
DTEND;TZID=America/New_York:20260809T160000
DTSTAMP:20260421T181340
CREATED:20260421T144924Z
LAST-MODIFIED:20260421T144924Z
UID:1604-1786284000-1786291200@chathamvineyards.com
SUMMARY:Crush Pad Music Series: Bayside Jazz
DESCRIPTION:Join us for our Crush Pad Music Series from 2 to 4 PM here at Chatham Vineyards on Virginia’s Eastern Shore. Settle in with a glass of wine\, soak up the vineyard views\, and enjoy live music from a rotating lineup of talented performers. \nNo tickets or RSVP required—just bring a picnic\, find your spot\, and unwind with great music in a relaxed\, open-air setting. Please note: outside alcohol is not permitted.
URL:https://chathamvineyards.com/event/crush-pad-music-series-bayside-jazz-2/
CATEGORIES:Crush Pad Music Series
ATTACH;FMTTYPE=image/jpeg:https://chathamvineyards.com/wp-content/uploads/2025/06/Crush-Pad-Music-Series-June25-web-scaled.jpeg
END:VEVENT
BEGIN:VEVENT
DTSTART;TZID=America/New_York:20260816T140000
DTEND;TZID=America/New_York:20260816T160000
DTSTAMP:20260421T181340
CREATED:20260406T145537Z
LAST-MODIFIED:20260406T145537Z
UID:1589-1786888800-1786896000@chathamvineyards.com
SUMMARY:Crush Pad Music Series: La Doo Vay
DESCRIPTION:Join us for our Crush Pad Music Series from 2 to 4 PM here at Chatham Vineyards on Virginia’s Eastern Shore. Settle in with a glass of wine\, soak up the vineyard views\, and enjoy live music from a rotating lineup of talented performers. \nNo tickets or RSVP required—just bring a picnic\, find your spot\, and unwind with great music in a relaxed\, open-air setting. Please note: outside alcohol is not permitted.
URL:https://chathamvineyards.com/event/crush-pad-music-series-la-doo-vay-6/
CATEGORIES:Crush Pad Music Series
ATTACH;FMTTYPE=image/jpeg:https://chathamvineyards.com/wp-content/uploads/2025/06/Crush-Pad-Music-Series-June25-web-scaled.jpeg
END:VEVENT
BEGIN:VEVENT
DTSTART;TZID=America/New_York:20260823T140000
DTEND;TZID=America/New_York:20260823T160000
DTSTAMP:20260421T181340
CREATED:20260421T145020Z
LAST-MODIFIED:20260421T145020Z
UID:1606-1787493600-1787500800@chathamvineyards.com
SUMMARY:Crush Pad Music Series: Willie C and the Gang
DESCRIPTION:Join us for our Crush Pad Music Series from 2 to 4 PM here at Chatham Vineyards on Virginia’s Eastern Shore. Settle in with a glass of wine\, soak up the vineyard views\, and enjoy live music from a rotating lineup of talented performers. \nNo tickets or RSVP required—just bring a picnic\, find your spot\, and unwind with great music in a relaxed\, open-air setting. Please note: outside alcohol is not permitted.
URL:https://chathamvineyards.com/event/crush-pad-music-series-willie-c-and-the-gang-3/
CATEGORIES:Crush Pad Music Series
ATTACH;FMTTYPE=image/jpeg:https://chathamvineyards.com/wp-content/uploads/2025/06/Crush-Pad-Music-Series-June25-web-scaled.jpeg
END:VEVENT
END:VCALENDAR