BEGIN:VCALENDAR
VERSION:2.0
PRODID:-//Chatham Vineyards - ECPv6.15.20//NONSGML v1.0//EN
CALSCALE:GREGORIAN
METHOD:PUBLISH
X-WR-CALNAME:Chatham Vineyards
X-ORIGINAL-URL:https://chathamvineyards.com
X-WR-CALDESC:Events for Chatham Vineyards
REFRESH-INTERVAL;VALUE=DURATION:PT1H
X-Robots-Tag:noindex
X-PUBLISHED-TTL:PT1H
BEGIN:VTIMEZONE
TZID:America/New_York
BEGIN:DAYLIGHT
TZOFFSETFROM:-0500
TZOFFSETTO:-0400
TZNAME:EDT
DTSTART:20230312T070000
END:DAYLIGHT
BEGIN:STANDARD
TZOFFSETFROM:-0400
TZOFFSETTO:-0500
TZNAME:EST
DTSTART:20231105T060000
END:STANDARD
BEGIN:DAYLIGHT
TZOFFSETFROM:-0500
TZOFFSETTO:-0400
TZNAME:EDT
DTSTART:20240310T070000
END:DAYLIGHT
BEGIN:STANDARD
TZOFFSETFROM:-0400
TZOFFSETTO:-0500
TZNAME:EST
DTSTART:20241103T060000
END:STANDARD
BEGIN:DAYLIGHT
TZOFFSETFROM:-0500
TZOFFSETTO:-0400
TZNAME:EDT
DTSTART:20250309T070000
END:DAYLIGHT
BEGIN:STANDARD
TZOFFSETFROM:-0400
TZOFFSETTO:-0500
TZNAME:EST
DTSTART:20251102T060000
END:STANDARD
END:VTIMEZONE
BEGIN:VEVENT
DTSTART;TZID=America/New_York:20241013T140000
DTEND;TZID=America/New_York:20241013T160000
DTSTAMP:20260420T061216
CREATED:20240830T121111Z
LAST-MODIFIED:20240830T121111Z
UID:972-1728828000-1728835200@chathamvineyards.com
SUMMARY:Crush Pad Music Series
DESCRIPTION:Live music lovers rejoice! Join us for a Crush Pad Music Series event the second Sunday of the month April through October. No fee or tickets required! All Crush Pad Music Series performances are weather permitting\, starting at 2pm and typically lasting until 4pm.Bring your picnic\, chairs and blankets and enjoy the music from the ample green space surrounding the crush pad. Bread and cheese will be available for purchase to pair with a glass or bottle of your favorite Chatham wine. Please\, no outside alcohol.
URL:https://chathamvineyards.com/event/crush-pad-music-series-2/
CATEGORIES:Crush Pad Music Series
ATTACH;FMTTYPE=image/jpeg:https://chathamvineyards.com/wp-content/uploads/2024/08/crush-pad-graphics-01.jpg
END:VEVENT
BEGIN:VEVENT
DTSTART;TZID=America/New_York:20240908T140000
DTEND;TZID=America/New_York:20240908T160000
DTSTAMP:20260420T061216
CREATED:20240830T120844Z
LAST-MODIFIED:20240830T120919Z
UID:970-1725804000-1725811200@chathamvineyards.com
SUMMARY:Crush Pad Music Series
DESCRIPTION:Live music lovers rejoice! Join us for a Crush Pad Music Series event the second Sunday of the month April through October. No fee or tickets required! All Crush Pad Music Series performances are weather permitting\, starting at 2pm and typically lasting until 4pm.Bring your picnic\, chairs and blankets and enjoy the music from the ample green space surrounding the crush pad. Bread and cheese will be available for purchase to pair with a glass or bottle of your favorite Chatham wine. Please\, no outside alcohol.
URL:https://chathamvineyards.com/event/crush-pad-music-series/
CATEGORIES:Crush Pad Music Series
ATTACH;FMTTYPE=image/jpeg:https://chathamvineyards.com/wp-content/uploads/2024/08/crush-pad-graphics-02.jpg
END:VEVENT
END:VCALENDAR