BEGIN:VCALENDAR
VERSION:2.0
PRODID:-//Chatham Vineyards - ECPv6.15.20//NONSGML v1.0//EN
CALSCALE:GREGORIAN
METHOD:PUBLISH
X-ORIGINAL-URL:https://chathamvineyards.com
X-WR-CALDESC:Events for Chatham Vineyards
REFRESH-INTERVAL;VALUE=DURATION:PT1H
X-Robots-Tag:noindex
X-PUBLISHED-TTL:PT1H
BEGIN:VTIMEZONE
TZID:America/New_York
BEGIN:DAYLIGHT
TZOFFSETFROM:-0500
TZOFFSETTO:-0400
TZNAME:EDT
DTSTART:20240310T070000
END:DAYLIGHT
BEGIN:STANDARD
TZOFFSETFROM:-0400
TZOFFSETTO:-0500
TZNAME:EST
DTSTART:20241103T060000
END:STANDARD
BEGIN:DAYLIGHT
TZOFFSETFROM:-0500
TZOFFSETTO:-0400
TZNAME:EDT
DTSTART:20250309T070000
END:DAYLIGHT
BEGIN:STANDARD
TZOFFSETFROM:-0400
TZOFFSETTO:-0500
TZNAME:EST
DTSTART:20251102T060000
END:STANDARD
BEGIN:DAYLIGHT
TZOFFSETFROM:-0500
TZOFFSETTO:-0400
TZNAME:EDT
DTSTART:20260308T070000
END:DAYLIGHT
BEGIN:STANDARD
TZOFFSETFROM:-0400
TZOFFSETTO:-0500
TZNAME:EST
DTSTART:20261101T060000
END:STANDARD
END:VTIMEZONE
BEGIN:VEVENT
DTSTART;VALUE=DATE:20250215
DTEND;VALUE=DATE:20250218
DTSTAMP:20260421T092429
CREATED:20250107T164736Z
LAST-MODIFIED:20260110T212615Z
UID:1370-1739577600-1739836799@chathamvineyards.com
SUMMARY:Winter Wine & Oyster Weekend - February 15-17
DESCRIPTION:Winter Wine & Oyster Weekend\, February 15 – 17 \nEnjoy a half dozen Shooting Point Oyster Company oysters and a glass of Chatham wine for just $20. No reservations\, just come on over! \nNo reservations or tickets required. Limited seating is available indoors\, but our fire pits will keep you cozy outdoors\, though please dress for the weather! Kids\, chairs and blankets all welcome as well as your pup if you don’t mind sitting outside. \nWinter Wine & Oyster Weekends:\nJanuary 18-20\nFebruary 15-17\nMarch 15-17 \nHours: 10am to 5pm
URL:https://chathamvineyards.com/event/winter-wine-oyster-weekend-february-15-17/
CATEGORIES:Winter Wine and Oyster Weekends
ATTACH;FMTTYPE=image/jpeg:https://chathamvineyards.com/wp-content/uploads/2025/01/chatham-fall-2024-06-wine-oysters-pier.jpg
END:VEVENT
END:VCALENDAR