BEGIN:VCALENDAR
VERSION:2.0
PRODID:-//Chatham Vineyards - ECPv6.15.20//NONSGML v1.0//EN
CALSCALE:GREGORIAN
METHOD:PUBLISH
X-WR-CALNAME:Chatham Vineyards
X-ORIGINAL-URL:https://chathamvineyards.com
X-WR-CALDESC:Events for Chatham Vineyards
REFRESH-INTERVAL;VALUE=DURATION:PT1H
X-Robots-Tag:noindex
X-PUBLISHED-TTL:PT1H
BEGIN:VTIMEZONE
TZID:America/New_York
BEGIN:DAYLIGHT
TZOFFSETFROM:-0500
TZOFFSETTO:-0400
TZNAME:EDT
DTSTART:20230312T070000
END:DAYLIGHT
BEGIN:STANDARD
TZOFFSETFROM:-0400
TZOFFSETTO:-0500
TZNAME:EST
DTSTART:20231105T060000
END:STANDARD
BEGIN:DAYLIGHT
TZOFFSETFROM:-0500
TZOFFSETTO:-0400
TZNAME:EDT
DTSTART:20240310T070000
END:DAYLIGHT
BEGIN:STANDARD
TZOFFSETFROM:-0400
TZOFFSETTO:-0500
TZNAME:EST
DTSTART:20241103T060000
END:STANDARD
BEGIN:DAYLIGHT
TZOFFSETFROM:-0500
TZOFFSETTO:-0400
TZNAME:EDT
DTSTART:20250309T070000
END:DAYLIGHT
BEGIN:STANDARD
TZOFFSETFROM:-0400
TZOFFSETTO:-0500
TZNAME:EST
DTSTART:20251102T060000
END:STANDARD
END:VTIMEZONE
BEGIN:VEVENT
DTSTART;TZID=America/New_York:20241129T100000
DTEND;TZID=America/New_York:20241201T170000
DTSTAMP:20260421T105446
CREATED:20240830T121800Z
LAST-MODIFIED:20241119T153549Z
UID:975-1732874400-1733072400@chathamvineyards.com
SUMMARY:Winter Wine and Oyster Weekend
DESCRIPTION:Enjoy a special pairing that reflects the terroir of Virginia’s Eastern Shore. Feast on a half dozen Seaside and Bayside Eastern Shore oysters with a glass of Chatham Wine for $20.00 between 10am and 5pm. No reservations or tickets required. Limited seating is available indoors\, but our fire pits will keep you cozy outdoors\, though please dress for the weather! Kids\, chairs and blankets all welcome along with your pup if you don’t mind sitting outside.
URL:https://chathamvineyards.com/event/winter-wine-and-oyster-weekend/
CATEGORIES:Winter Wine and Oyster Weekends
ATTACH;FMTTYPE=image/jpeg:https://chathamvineyards.com/wp-content/uploads/2024/08/events-2.jpg
END:VEVENT
END:VCALENDAR