BEGIN:VCALENDAR
VERSION:2.0
PRODID:-//Chatham Vineyards - ECPv6.15.20//NONSGML v1.0//EN
CALSCALE:GREGORIAN
METHOD:PUBLISH
X-WR-CALNAME:Chatham Vineyards
X-ORIGINAL-URL:https://chathamvineyards.com
X-WR-CALDESC:Events for Chatham Vineyards
REFRESH-INTERVAL;VALUE=DURATION:PT1H
X-Robots-Tag:noindex
X-PUBLISHED-TTL:PT1H
BEGIN:VTIMEZONE
TZID:America/New_York
BEGIN:DAYLIGHT
TZOFFSETFROM:-0500
TZOFFSETTO:-0400
TZNAME:EDT
DTSTART:20240310T070000
END:DAYLIGHT
BEGIN:STANDARD
TZOFFSETFROM:-0400
TZOFFSETTO:-0500
TZNAME:EST
DTSTART:20241103T060000
END:STANDARD
BEGIN:DAYLIGHT
TZOFFSETFROM:-0500
TZOFFSETTO:-0400
TZNAME:EDT
DTSTART:20250309T070000
END:DAYLIGHT
BEGIN:STANDARD
TZOFFSETFROM:-0400
TZOFFSETTO:-0500
TZNAME:EST
DTSTART:20251102T060000
END:STANDARD
BEGIN:DAYLIGHT
TZOFFSETFROM:-0500
TZOFFSETTO:-0400
TZNAME:EDT
DTSTART:20260308T070000
END:DAYLIGHT
BEGIN:STANDARD
TZOFFSETFROM:-0400
TZOFFSETTO:-0500
TZNAME:EST
DTSTART:20261101T060000
END:STANDARD
END:VTIMEZONE
BEGIN:VEVENT
DTSTART;TZID=America/New_York:20250802T170000
DTEND;TZID=America/New_York:20250802T210000
DTSTAMP:20260421T072813
CREATED:20250224T164957Z
LAST-MODIFIED:20250710T185211Z
UID:1381-1754154000-1754168400@chathamvineyards.com
SUMMARY:17th Annual Dead on the Vine Concert
DESCRIPTION:The grooviest night of the year returns to Virginia’s Eastern Shore on Saturday\, August 2\, 2025! Now in it’s 17th year\, Dead on the Vine has sold out in advance for the past few years\, so grab your tickets early and get ready to dance under the summer stars here at Chatham\, enjoying live sets from Last Fair Deal – Virginia’s premiere seven-piece Grateful Dead tribute band. \nFor adults 21+\, your ticket includes dinner\, a glass of wine or beer\, music and dancing for $70. For children\, the concert with dinner and a non-alcoholic beverage is $30. Arrival and check-in starts at 4 PM\, and the concert begins at 5 PM. \nWe will have limited seating available on a first-come\, first-served basis. Lawn furniture and/or blankets are welcome and suggested. Please\, no outside alcohol. \nClick here to purchase tickets now. \nCheers!
URL:https://chathamvineyards.com/event/17th-annual-dead-on-the-vine-concert/
CATEGORIES:Dead on the Vine Concert
ATTACH;FMTTYPE=image/jpeg:https://chathamvineyards.com/wp-content/uploads/2024/08/chatham-s_209A5848-events-night.jpg
END:VEVENT
END:VCALENDAR